BEGIN:VCALENDAR
VERSION:2.0
PRODID:-//PSNV KV Cloppenburg - ECPv6.15.11//NONSGML v1.0//EN
CALSCALE:GREGORIAN
METHOD:PUBLISH
X-WR-CALNAME:PSNV KV Cloppenburg
X-ORIGINAL-URL:https://psnv-cloppenburg.de
X-WR-CALDESC:Veranstaltungen für PSNV KV Cloppenburg
REFRESH-INTERVAL;VALUE=DURATION:PT1H
X-Robots-Tag:noindex
X-PUBLISHED-TTL:PT1H
BEGIN:VTIMEZONE
TZID:Europe/Helsinki
BEGIN:DAYLIGHT
TZOFFSETFROM:+0200
TZOFFSETTO:+0300
TZNAME:EEST
DTSTART:20250330T010000
END:DAYLIGHT
BEGIN:STANDARD
TZOFFSETFROM:+0300
TZOFFSETTO:+0200
TZNAME:EET
DTSTART:20251026T010000
END:STANDARD
BEGIN:DAYLIGHT
TZOFFSETFROM:+0200
TZOFFSETTO:+0300
TZNAME:EEST
DTSTART:20260329T010000
END:DAYLIGHT
BEGIN:STANDARD
TZOFFSETFROM:+0300
TZOFFSETTO:+0200
TZNAME:EET
DTSTART:20261025T010000
END:STANDARD
BEGIN:DAYLIGHT
TZOFFSETFROM:+0200
TZOFFSETTO:+0300
TZNAME:EEST
DTSTART:20270328T010000
END:DAYLIGHT
BEGIN:STANDARD
TZOFFSETFROM:+0300
TZOFFSETTO:+0200
TZNAME:EET
DTSTART:20271031T010000
END:STANDARD
END:VTIMEZONE
BEGIN:VEVENT
DTSTART;VALUE=DATE:20260321
DTEND;VALUE=DATE:20260323
DTSTAMP:20260420T080453
CREATED:20251102T183701Z
LAST-MODIFIED:20260217T191155Z
UID:1797-1774051200-1774223999@psnv-cloppenburg.de
SUMMARY:07 Lehrgang PSNV - Gruppenführer
DESCRIPTION:Termine1 Wochenende 21. und 22. 03. 2026   1 Teil\n2 Wochenende 11. und 12. 04. 2026   2 Teil\n3 Wochenende 25. und 26. 04  2026   3 Teil\n\n\n	Zeiten:Teil 1 und Teil 2\nSamstag      09:00 bis ca. 18:00 Uhr\nSonntag      09:00 bis ca. 18:00 Uhr\nTeil 3  \nSamstag      08.30 bis 18:00 Uhr\nSonntag      Prüfungszeit\n\n\n\n	Ort der AusbildungDRK_landesverband Oldenburg e.V.\nMaria-von-Jever-Str. 2\n\n261125 Oldenburg\n\n\n	Teilnehmerzahl:mind. 8 max. 16  Personen\n\n\n	Unterrichtseinheit: 40 UE\n\n\n	Zielgruppe:- Helfer und Helferinnen die eine Qualifizierung zum Gruppenführer PSNV \n    oder eine höherwertige PSNV Führungsausbildung anstreben.\n- Helfer die im Katastrophenschutzgesetz (LKatSG) eine Staffel führen. \n\n\n	Lehrgangsziele- Kenntnis der Leitungs- und Führungsstruktur der PSNV \n- Kenntnisse im Tätigkeitsfeld eines Gruppenführers PSNV lt. Staffel (LKatSG)\n- Kenntnisse im Tätigkeitsfeld eines Führungsassistenten PSNV\n\n\n\n	Inhalte- Grundlagen: Führung und Leitung \n- Standards- und Einsatzregeln \n- Führungssystem nach DV100 \n- Zusammenarbeit mit Dritten \n- Katastrophenschutzkonzept Niedersachsen \n- Vor- und Nachbereiten von Einsätzen \n- Stressbewältigung im Einsatz \n- Sicherheit im Einsatz\n\n\n	Voraussetzungen- Abgeschlossene PSNV-B Ausbildung\n- Möglichst abgeschlossene PSNV-E Ausbildung \n   (kann in Einzelfällen auch vor der Ernennung zum GF PSNV nachgeholt werden)\n- Abgeschlossene Sprechfunkausbildung ( kann nachgeholt werden)\n\n\n	Lehrgangskosten220\,00 € ohne Übernachtung\n\n\n\n	Anmeldeschluss28.02.2026 oder der Lehrgang die Teilnehmerzahl erreicht hat.\n\n\n	BemerkungenVerflegung\, Grétränke und Lehrunterlagen werden zur Verfügung gestellt!\n\n\n	DozentenThomas Hoppe
URL:https://psnv-cloppenburg.de/event/07-gruppenfuehrer/
LOCATION:DRK LV Oldenburg\, Maria-von-Jever-Str. 2\, Oldenburg\, Niedersachsen\, 26125\, Germany
CATEGORIES:Ausbildung
ATTACH;FMTTYPE=image/jpeg:https://psnv-cloppenburg.de/wp-content/uploads/2026/02/Screenshot-2026-02-16-150045-e1771584060364.jpg
ORGANIZER;CN="DRK LV Oldenburg":MAILTO:psnv@drk-cloppenburg.de
END:VEVENT
END:VCALENDAR